BEGIN:VCALENDAR
VERSION:2.0
PRODID:-//Vantage Homes Association - ECPv6.15.20//NONSGML v1.0//EN
CALSCALE:GREGORIAN
METHOD:PUBLISH
X-WR-CALNAME:Vantage Homes Association
X-ORIGINAL-URL:https://vantagehoa.org
X-WR-CALDESC:Events for Vantage Homes Association
REFRESH-INTERVAL;VALUE=DURATION:PT1H
X-Robots-Tag:noindex
X-PUBLISHED-TTL:PT1H
BEGIN:VTIMEZONE
TZID:America/New_York
BEGIN:DAYLIGHT
TZOFFSETFROM:-0500
TZOFFSETTO:-0400
TZNAME:EDT
DTSTART:20160313T070000
END:DAYLIGHT
BEGIN:STANDARD
TZOFFSETFROM:-0400
TZOFFSETTO:-0500
TZNAME:EST
DTSTART:20161106T060000
END:STANDARD
BEGIN:DAYLIGHT
TZOFFSETFROM:-0500
TZOFFSETTO:-0400
TZNAME:EDT
DTSTART:20170312T070000
END:DAYLIGHT
BEGIN:STANDARD
TZOFFSETFROM:-0400
TZOFFSETTO:-0500
TZNAME:EST
DTSTART:20171105T060000
END:STANDARD
BEGIN:DAYLIGHT
TZOFFSETFROM:-0500
TZOFFSETTO:-0400
TZNAME:EDT
DTSTART:20180311T070000
END:DAYLIGHT
BEGIN:STANDARD
TZOFFSETFROM:-0400
TZOFFSETTO:-0500
TZNAME:EST
DTSTART:20181104T060000
END:STANDARD
BEGIN:DAYLIGHT
TZOFFSETFROM:-0500
TZOFFSETTO:-0400
TZNAME:EDT
DTSTART:20190310T070000
END:DAYLIGHT
BEGIN:STANDARD
TZOFFSETFROM:-0400
TZOFFSETTO:-0500
TZNAME:EST
DTSTART:20191103T060000
END:STANDARD
BEGIN:DAYLIGHT
TZOFFSETFROM:-0500
TZOFFSETTO:-0400
TZNAME:EDT
DTSTART:20200308T070000
END:DAYLIGHT
BEGIN:STANDARD
TZOFFSETFROM:-0400
TZOFFSETTO:-0500
TZNAME:EST
DTSTART:20201101T060000
END:STANDARD
BEGIN:DAYLIGHT
TZOFFSETFROM:-0500
TZOFFSETTO:-0400
TZNAME:EDT
DTSTART:20210314T070000
END:DAYLIGHT
BEGIN:STANDARD
TZOFFSETFROM:-0400
TZOFFSETTO:-0500
TZNAME:EST
DTSTART:20211107T060000
END:STANDARD
BEGIN:DAYLIGHT
TZOFFSETFROM:-0500
TZOFFSETTO:-0400
TZNAME:EDT
DTSTART:20220313T070000
END:DAYLIGHT
BEGIN:STANDARD
TZOFFSETFROM:-0400
TZOFFSETTO:-0500
TZNAME:EST
DTSTART:20221106T060000
END:STANDARD
BEGIN:DAYLIGHT
TZOFFSETFROM:-0500
TZOFFSETTO:-0400
TZNAME:EDT
DTSTART:20230312T070000
END:DAYLIGHT
BEGIN:STANDARD
TZOFFSETFROM:-0400
TZOFFSETTO:-0500
TZNAME:EST
DTSTART:20231105T060000
END:STANDARD
BEGIN:DAYLIGHT
TZOFFSETFROM:-0500
TZOFFSETTO:-0400
TZNAME:EDT
DTSTART:20240310T070000
END:DAYLIGHT
BEGIN:STANDARD
TZOFFSETFROM:-0400
TZOFFSETTO:-0500
TZNAME:EST
DTSTART:20241103T060000
END:STANDARD
BEGIN:DAYLIGHT
TZOFFSETFROM:-0500
TZOFFSETTO:-0400
TZNAME:EDT
DTSTART:20250309T070000
END:DAYLIGHT
BEGIN:STANDARD
TZOFFSETFROM:-0400
TZOFFSETTO:-0500
TZNAME:EST
DTSTART:20251102T060000
END:STANDARD
BEGIN:DAYLIGHT
TZOFFSETFROM:-0500
TZOFFSETTO:-0400
TZNAME:EDT
DTSTART:20260308T070000
END:DAYLIGHT
BEGIN:STANDARD
TZOFFSETFROM:-0400
TZOFFSETTO:-0500
TZNAME:EST
DTSTART:20261101T060000
END:STANDARD
END:VTIMEZONE
BEGIN:VEVENT
DTSTART;TZID=America/New_York:20251028T190000
DTEND;TZID=America/New_York:20251028T210000
DTSTAMP:20260423T183310
CREATED:20250318T013953Z
LAST-MODIFIED:20251020T071203Z
UID:2914-1761678000-1761685200@vantagehoa.org
SUMMARY:2025 VHA Annual Meeting
DESCRIPTION:Please join your neighbors for the annual Vantage Homes Association meeting of members. \nNote the venue for this year’s meeting: \nGroveton Elementary School Cafeteria\n6900 Harrison Lane\nAlexandria\, VA\, 22306 \nThe meeting will start at 7 p.m. \nFormal business topics include:\n– Elect 3 members to the Board of Directors for 3-year terms\n– Present financial statements for 2025 and the fiscal year 2026 budget\n– Present summary of year’s activities and future plans\n– Discuss major projects\n– Hear community comments and suggestions\n– Conduct any other business that may be properly brought \nIf you are unable to attend and wish to assign a proxy\, please submit your proxy form to a current board member or via email to board@vantagehoa.org. Proxies may be assigned to any person (tenant\, friend\, member of the Board\, or the Board at large). \nOwner\, please watch your mailbox for a written invitation with additional details\, proxy form\, and personalized voting code.
URL:https://vantagehoa.org/event/2025-vha-annual-meeting/
LOCATION:Groveton Elementary\, 6900 Harrison Lane\, Alexandria\, Virginia\, 22306\, United States
CATEGORIES:Annual Meeting
END:VEVENT
BEGIN:VEVENT
DTSTART;TZID=America/New_York:20241021T190000
DTEND;TZID=America/New_York:20241021T210000
DTSTAMP:20260423T183310
CREATED:20240121T073834Z
LAST-MODIFIED:20240121T073834Z
UID:2548-1729537200-1729544400@vantagehoa.org
SUMMARY:2024 VHA Annual Meeting
DESCRIPTION:Please join your neighbors for the annual Vantage Homes Association meeting of members. \nNote the venue for this year’s meeting: \nVirginia Hills Center\nMultipurpose Room\n6520 Diana Lane\nAlexandria\, VA \nThe meeting will start at 7 p.m. \nFormal business topics include:\n– Elect 3 members to the Board of Directors for 3-year terms\n– Present financial statements for 2024 and the fiscal year 2025 budget\n– Present summary of year’s activities and future plans\n– Discuss major projects\n– Hear community comments and suggestions\n– Conduct any other business that may be properly brought \nIf you are unable to attend and wish to assign a proxy\, please submit your proxy form to a current board member or via email to board@vantagehoa.org. Proxies may be assigned to any person (tenant\, friend\, member of the Board\, or the Board at large). \nOwner\, please watch your mailbox for a written invitation with additional details\, proxy form\, and personalized voting code.
URL:https://vantagehoa.org/event/2024-vha-annual-meeting/
LOCATION:Virginia Hills Center\, 6520 Diana Lane\, Alexandria\, VA
CATEGORIES:Annual Meeting
END:VEVENT
BEGIN:VEVENT
DTSTART;TZID=America/New_York:20231016T190000
DTEND;TZID=America/New_York:20231016T210000
DTSTAMP:20260423T183310
CREATED:20230908T173007Z
LAST-MODIFIED:20230908T185252Z
UID:2494-1697482800-1697490000@vantagehoa.org
SUMMARY:2023 VHA Annual Meeting
DESCRIPTION:Please join your neighbors for the annual Vantage Homes Association meeting of members. \nNote the change of venue for this year’s meeting: \nVirginia Hills Center\nMultipurpose Room\n6520 Diana Lane\nAlexandria\, VA \nThe meeting will start at 7 p.m. \nFormal business topics include:\n– Elect 3 members to the Board of Directors for 3-year terms\n– Present financial statements for 2023 and the fiscal year 2023 budget\n– Present summary of year’s activities and future plans\n– Discuss major projects\n– Hear community comments and suggestions\n– Conduct any other business that may be properly brought \nIf you are unable to attend and wish to assign a proxy\, please submit your proxy form to a current board member or via email to board@vantagehoa.org. Proxies may be assigned to any person (tenant\, friend\, member of the Board\, or the Board at large). \nOwner\, please watch your mailbox for a written invitation with additional details\, proxy form\, and personalized voting code.
URL:https://vantagehoa.org/event/2023-vha-annual-meeting/
LOCATION:Virginia Hills Center\, 6520 Diana Lane\, Alexandria\, VA
CATEGORIES:Annual Meeting
END:VEVENT
BEGIN:VEVENT
DTSTART;TZID=America/New_York:20221017T190000
DTEND;TZID=America/New_York:20221017T210000
DTSTAMP:20260423T183310
CREATED:20220216T030935Z
LAST-MODIFIED:20221006T235722Z
UID:1740-1666033200-1666040400@vantagehoa.org
SUMMARY:2022 VHA Annual Meeting
DESCRIPTION:Please join your neighbors for the annual Vantage Homes Association meeting of members. \nNote the change of venue for this year’s meeting: \nVirginia Hills Center\nLibrary\n6520 Diana Lane\nAlexandria\, VA \nThe meeting will start at 7 p.m. with a Q&A session with the Franconia District Supervisor. Formal business will call to order at 7:30 p.m. \nIf you have any questions for the Supervisor\, please post them via this form. \nFormal business topics include:\n– Elect 3 members to the Board of Directors for 3-year terms\n– Present financial statements for 2022 and the fiscal year 2023 budget\n– Present summary of year’s activities and future plans\n– Discuss status of Architectural Guidelines revision\n– Discuss recent challenges with trash/recycling services\n– Hear community comments and suggestions\n– Conduct any other business that may be properly brought \nIf you are unable to attend and wish to assign a proxy\, please submit your proxy form to a current board member or via email to board@vantagehoa.org. Proxies may be assigned to any person (tenant\, friend\, member of the Board\, or the Board at large). \nMasks encouraged for in-person attendance. Online and phone-only options are also available. Owner\, please watch your mailbox for a written invitation with additional details\, proxy form\, and personalized voting code.
URL:https://vantagehoa.org/event/2022-vha-annual-meeting/
LOCATION:Virginia Hills Center\, 6520 Diana Lane\, Alexandria\, VA
CATEGORIES:Annual Meeting
END:VEVENT
BEGIN:VEVENT
DTSTART;TZID=America/New_York:20211018T193000
DTEND;TZID=America/New_York:20211018T210000
DTSTAMP:20260423T183310
CREATED:20210411T173435Z
LAST-MODIFIED:20210411T173435Z
UID:1352-1634585400-1634590800@vantagehoa.org
SUMMARY:2021 VHA Annual Meeting
DESCRIPTION:The 2021 annual community meeting will be on Monday\, October 18th.  Additional details to be provided at a later date.
URL:https://vantagehoa.org/event/2021-vha-annual-meeting/
CATEGORIES:Annual Meeting
END:VEVENT
BEGIN:VEVENT
DTSTART;TZID=America/New_York:20201019T193000
DTEND;TZID=America/New_York:20201019T210000
DTSTAMP:20260423T183310
CREATED:20200413T185808Z
LAST-MODIFIED:20200413T185816Z
UID:930-1603135800-1603141200@vantagehoa.org
SUMMARY:2020 VHA Annual Meeting
DESCRIPTION:The 2020 annual community meeting will be on October 19th at 7:30pm.
URL:https://vantagehoa.org/event/2020-vha-annual-meeting/
CATEGORIES:Annual Meeting
END:VEVENT
BEGIN:VEVENT
DTSTART;TZID=America/New_York:20191021T193000
DTEND;TZID=America/New_York:20191021T210000
DTSTAMP:20260423T183310
CREATED:20190331T130155Z
LAST-MODIFIED:20190331T130155Z
UID:695-1571686200-1571691600@vantagehoa.org
SUMMARY:2019 VHA Annual Meeting
DESCRIPTION:The 2019 annual community meeting will be on October 21st at 7:30pm at St Mark’s Episcopal Church.
URL:https://vantagehoa.org/event/2019-vha-annual-meeting/
CATEGORIES:Annual Meeting
END:VEVENT
BEGIN:VEVENT
DTSTART;TZID=America/New_York:20181015T193000
DTEND;TZID=America/New_York:20181015T210000
DTSTAMP:20260423T183310
CREATED:20180130T030423Z
LAST-MODIFIED:20181013T222348Z
UID:457-1539631800-1539637200@vantagehoa.org
SUMMARY:2018 VHA Annual Meeting
DESCRIPTION:The 2018 annual community meeting will be on October 15th at 7:30pm at St Mark’s Episcopal Church.
URL:https://vantagehoa.org/event/2018-vha-annual-meeting/
LOCATION:St Mark’s Episcopal Church\, 6744 S Kings Hwy\, Alexandria\, VA\, 22306\, United States
CATEGORIES:Annual Meeting
END:VEVENT
BEGIN:VEVENT
DTSTART;TZID=America/New_York:20171016T193000
DTEND;TZID=America/New_York:20171016T210000
DTSTAMP:20260423T183310
CREATED:20170911T073944Z
LAST-MODIFIED:20180130T025735Z
UID:259-1508182200-1508187600@vantagehoa.org
SUMMARY:2017 VHA Annual Meeting
DESCRIPTION:The 2017 annual community meeting will be on October 16th at 7:30pm at St Mark’s Episcopal Church. \n2017 annual meeting notice letter and proxy
URL:https://vantagehoa.org/event/2017-vha-annual-meeting/
LOCATION:St Mark’s Episcopal Church\, 6744 S Kings Hwy\, Alexandria\, VA\, 22306\, United States
CATEGORIES:Annual Meeting
END:VEVENT
END:VCALENDAR