BEGIN:VCALENDAR
VERSION:2.0
PRODID:-//Vantage Homes Association - ECPv6.15.20//NONSGML v1.0//EN
CALSCALE:GREGORIAN
METHOD:PUBLISH
X-WR-CALNAME:Vantage Homes Association
X-ORIGINAL-URL:https://vantagehoa.org
X-WR-CALDESC:Events for Vantage Homes Association
REFRESH-INTERVAL;VALUE=DURATION:PT1H
X-Robots-Tag:noindex
X-PUBLISHED-TTL:PT1H
BEGIN:VTIMEZONE
TZID:America/New_York
BEGIN:DAYLIGHT
TZOFFSETFROM:-0500
TZOFFSETTO:-0400
TZNAME:EDT
DTSTART:20160313T070000
END:DAYLIGHT
BEGIN:STANDARD
TZOFFSETFROM:-0400
TZOFFSETTO:-0500
TZNAME:EST
DTSTART:20161106T060000
END:STANDARD
BEGIN:DAYLIGHT
TZOFFSETFROM:-0500
TZOFFSETTO:-0400
TZNAME:EDT
DTSTART:20170312T070000
END:DAYLIGHT
BEGIN:STANDARD
TZOFFSETFROM:-0400
TZOFFSETTO:-0500
TZNAME:EST
DTSTART:20171105T060000
END:STANDARD
BEGIN:DAYLIGHT
TZOFFSETFROM:-0500
TZOFFSETTO:-0400
TZNAME:EDT
DTSTART:20180311T070000
END:DAYLIGHT
BEGIN:STANDARD
TZOFFSETFROM:-0400
TZOFFSETTO:-0500
TZNAME:EST
DTSTART:20181104T060000
END:STANDARD
BEGIN:DAYLIGHT
TZOFFSETFROM:-0500
TZOFFSETTO:-0400
TZNAME:EDT
DTSTART:20190310T070000
END:DAYLIGHT
BEGIN:STANDARD
TZOFFSETFROM:-0400
TZOFFSETTO:-0500
TZNAME:EST
DTSTART:20191103T060000
END:STANDARD
BEGIN:DAYLIGHT
TZOFFSETFROM:-0500
TZOFFSETTO:-0400
TZNAME:EDT
DTSTART:20200308T070000
END:DAYLIGHT
BEGIN:STANDARD
TZOFFSETFROM:-0400
TZOFFSETTO:-0500
TZNAME:EST
DTSTART:20201101T060000
END:STANDARD
BEGIN:DAYLIGHT
TZOFFSETFROM:-0500
TZOFFSETTO:-0400
TZNAME:EDT
DTSTART:20210314T070000
END:DAYLIGHT
BEGIN:STANDARD
TZOFFSETFROM:-0400
TZOFFSETTO:-0500
TZNAME:EST
DTSTART:20211107T060000
END:STANDARD
BEGIN:DAYLIGHT
TZOFFSETFROM:-0500
TZOFFSETTO:-0400
TZNAME:EDT
DTSTART:20220313T070000
END:DAYLIGHT
BEGIN:STANDARD
TZOFFSETFROM:-0400
TZOFFSETTO:-0500
TZNAME:EST
DTSTART:20221106T060000
END:STANDARD
BEGIN:DAYLIGHT
TZOFFSETFROM:-0500
TZOFFSETTO:-0400
TZNAME:EDT
DTSTART:20230312T070000
END:DAYLIGHT
BEGIN:STANDARD
TZOFFSETFROM:-0400
TZOFFSETTO:-0500
TZNAME:EST
DTSTART:20231105T060000
END:STANDARD
BEGIN:DAYLIGHT
TZOFFSETFROM:-0500
TZOFFSETTO:-0400
TZNAME:EDT
DTSTART:20240310T070000
END:DAYLIGHT
BEGIN:STANDARD
TZOFFSETFROM:-0400
TZOFFSETTO:-0500
TZNAME:EST
DTSTART:20241103T060000
END:STANDARD
BEGIN:DAYLIGHT
TZOFFSETFROM:-0500
TZOFFSETTO:-0400
TZNAME:EDT
DTSTART:20250309T070000
END:DAYLIGHT
BEGIN:STANDARD
TZOFFSETFROM:-0400
TZOFFSETTO:-0500
TZNAME:EST
DTSTART:20251102T060000
END:STANDARD
BEGIN:DAYLIGHT
TZOFFSETFROM:-0500
TZOFFSETTO:-0400
TZNAME:EDT
DTSTART:20260308T070000
END:DAYLIGHT
BEGIN:STANDARD
TZOFFSETFROM:-0400
TZOFFSETTO:-0500
TZNAME:EST
DTSTART:20261101T060000
END:STANDARD
END:VTIMEZONE
BEGIN:VEVENT
DTSTART;TZID=America/New_York:20251220T100000
DTEND;TZID=America/New_York:20251220T110000
DTSTAMP:20260423T222028
CREATED:20250318T014048Z
LAST-MODIFIED:20250318T014048Z
UID:2916-1766224800-1766228400@vantagehoa.org
SUMMARY:Santa Visits Vantage
DESCRIPTION:This year\, Santa will visit our community on Saturday\, December 20th\, around 10am. Stay tuned for more information.
URL:https://vantagehoa.org/event/santa-visits-vantage-6/
CATEGORIES:Santa Visit
END:VEVENT
BEGIN:VEVENT
DTSTART;TZID=America/New_York:20241214T100000
DTEND;TZID=America/New_York:20241214T110000
DTSTAMP:20260423T222028
CREATED:20241114T010546Z
LAST-MODIFIED:20241114T010546Z
UID:2863-1734170400-1734174000@vantagehoa.org
SUMMARY:Santa Visits Vantage
DESCRIPTION:This year\, Santa will visit our community on Saturday\, December 14th\, around 10am. Stay tuned for more information.
URL:https://vantagehoa.org/event/santa-visits-vantage-5/
CATEGORIES:Santa Visit
END:VEVENT
BEGIN:VEVENT
DTSTART;TZID=America/New_York:20231216T100000
DTEND;TZID=America/New_York:20231216T110000
DTSTAMP:20260423T222028
CREATED:20230214T012455Z
LAST-MODIFIED:20230214T012455Z
UID:2219-1702720800-1702724400@vantagehoa.org
SUMMARY:Santa Visits Vantage
DESCRIPTION:This year\, Santa will visit our community on Saturday\, December 16th\, around 10am. Stay tuned for more information.
URL:https://vantagehoa.org/event/santa-visits-vantage-4/
CATEGORIES:Santa Visit
END:VEVENT
BEGIN:VEVENT
DTSTART;TZID=America/New_York:20221217T100000
DTEND;TZID=America/New_York:20221217T110000
DTSTAMP:20260423T222028
CREATED:20220216T030953Z
LAST-MODIFIED:20220216T030953Z
UID:1742-1671271200-1671274800@vantagehoa.org
SUMMARY:Santa Visits Vantage
DESCRIPTION:This year\, Santa will visit our community on Saturday\, December 17th\, around 10am. Stay tuned for more information.
URL:https://vantagehoa.org/event/santa-visits-vantage-3/
CATEGORIES:Santa Visit
END:VEVENT
BEGIN:VEVENT
DTSTART;TZID=America/New_York:20211218T100000
DTEND;TZID=America/New_York:20211218T110000
DTSTAMP:20260423T222028
CREATED:20210411T174205Z
LAST-MODIFIED:20210411T174205Z
UID:1357-1639821600-1639825200@vantagehoa.org
SUMMARY:Santa Visits Vantage
DESCRIPTION:This year\, Santa will visit our community on Saturday\, December 18th\, around 10am. More details to be provided at a later date.
URL:https://vantagehoa.org/event/santa-visits-vantage-2/
CATEGORIES:Santa Visit
END:VEVENT
BEGIN:VEVENT
DTSTART;TZID=America/New_York:20201219T100000
DTEND;TZID=America/New_York:20201219T110000
DTSTAMP:20260423T222028
CREATED:20201207T055854Z
LAST-MODIFIED:20201207T055854Z
UID:1288-1608372000-1608375600@vantagehoa.org
SUMMARY:Santa Visits Vantage
DESCRIPTION:Every year\, Santa visits the Vantage Community. Santa will arrive at the intersection of Vantage Drive and Flintstone Road at 10:00 AM on Saturday\, December 19th\, accompanied by a Fairfax County Fire and Rescue Squad Truck! However\, due to social distancing guidelines\, he will only ride through the neighborhood in a small parade. We encourage your kids to wave from your front yards or sidewalks to help spread holiday cheer.
URL:https://vantagehoa.org/event/santa-visits-vantage-2020/
CATEGORIES:Santa Visit
END:VEVENT
BEGIN:VEVENT
DTSTART;TZID=America/New_York:20191214T100000
DTEND;TZID=America/New_York:20191214T110000
DTSTAMP:20260423T222028
CREATED:20190331T130022Z
LAST-MODIFIED:20190331T130022Z
UID:693-1576317600-1576321200@vantagehoa.org
SUMMARY:Santa Visits Vantage
DESCRIPTION:Every year\, Santa visits the Vantage Community in a Fire Truck. This year\, he’ll drive in on Saturday\, December 14 around 10am. Look for his route to be posted in the Vantage Quarterly.
URL:https://vantagehoa.org/event/santa-visits-vantage-2019/
CATEGORIES:Santa Visit
END:VEVENT
BEGIN:VEVENT
DTSTART;TZID=America/New_York:20181215T100000
DTEND;TZID=America/New_York:20181215T110000
DTSTAMP:20260423T222028
CREATED:20180130T030722Z
LAST-MODIFIED:20180130T030722Z
UID:459-1544868000-1544871600@vantagehoa.org
SUMMARY:Santa Visits Vantage
DESCRIPTION:Every year\, Santa visits the Vantage Community in a Fire Truck. This year\, he’ll drive in on Saturday\, December 15 around 10am. Look for his route to be posted in the Vantage Quarterly.
URL:https://vantagehoa.org/event/santa-visits-vantage-2018/
CATEGORIES:Santa Visit
END:VEVENT
BEGIN:VEVENT
DTSTART;TZID=America/New_York:20171216T100000
DTEND;TZID=America/New_York:20171216T110000
DTSTAMP:20260423T222028
CREATED:20171114T004931Z
LAST-MODIFIED:20171114T004931Z
UID:426-1513418400-1513422000@vantagehoa.org
SUMMARY:Santa Visits Vantage
DESCRIPTION:Every year\, Santa visits the Vantage Community in a Fire Truck. This year\, he’ll drive in on Saturday\, December 16 around 10am. Look for his route posted in the Vantage Quarterly.
URL:https://vantagehoa.org/event/santa-visit-2017/
CATEGORIES:Santa Visit
END:VEVENT
END:VCALENDAR