BEGIN:VCALENDAR
VERSION:2.0
PRODID:-//Vantage Homes Association - ECPv6.15.20//NONSGML v1.0//EN
CALSCALE:GREGORIAN
METHOD:PUBLISH
X-WR-CALNAME:Vantage Homes Association
X-ORIGINAL-URL:https://vantagehoa.org
X-WR-CALDESC:Events for Vantage Homes Association
REFRESH-INTERVAL;VALUE=DURATION:PT1H
X-Robots-Tag:noindex
X-PUBLISHED-TTL:PT1H
BEGIN:VTIMEZONE
TZID:America/New_York
BEGIN:DAYLIGHT
TZOFFSETFROM:-0500
TZOFFSETTO:-0400
TZNAME:EDT
DTSTART:20210314T070000
END:DAYLIGHT
BEGIN:STANDARD
TZOFFSETFROM:-0400
TZOFFSETTO:-0500
TZNAME:EST
DTSTART:20211107T060000
END:STANDARD
BEGIN:DAYLIGHT
TZOFFSETFROM:-0500
TZOFFSETTO:-0400
TZNAME:EDT
DTSTART:20220313T070000
END:DAYLIGHT
BEGIN:STANDARD
TZOFFSETFROM:-0400
TZOFFSETTO:-0500
TZNAME:EST
DTSTART:20221106T060000
END:STANDARD
BEGIN:DAYLIGHT
TZOFFSETFROM:-0500
TZOFFSETTO:-0400
TZNAME:EDT
DTSTART:20230312T070000
END:DAYLIGHT
BEGIN:STANDARD
TZOFFSETFROM:-0400
TZOFFSETTO:-0500
TZNAME:EST
DTSTART:20231105T060000
END:STANDARD
END:VTIMEZONE
BEGIN:VEVENT
DTSTART;TZID=America/New_York:20221212T190000
DTEND;TZID=America/New_York:20221212T210000
DTSTAMP:20260423T185901
CREATED:20220816T011958Z
LAST-MODIFIED:20220816T011958Z
UID:2121-1670871600-1670878800@vantagehoa.org
SUMMARY:December 2022 VHA Board Meeting
DESCRIPTION:The VHA board typically meets on the second Monday of the month at 7 p.m.  Community members are welcome to address the board or sit in on the monthly meetings. \nIf you wish to address the board\, please email the board at least 24 hours in advance of the meeting with a brief description of the topic to be added to the agenda. \nOnline participation is available via GoToMeeting in accordance with our Virtual Meeting Guidelines.  In person participation may be available depending on weather and pandemic conditions.  Please email the address below to obtain/confirm meeting logistics.
URL:https://vantagehoa.org/event/dec-2022-vha-board-meeting/
CATEGORIES:Board Meeting
ORGANIZER;CN="VHA Board of Directors":MAILTO:board@vantagehoa.org
END:VEVENT
BEGIN:VEVENT
DTSTART;TZID=America/New_York:20221217T100000
DTEND;TZID=America/New_York:20221217T110000
DTSTAMP:20260423T185901
CREATED:20220216T030953Z
LAST-MODIFIED:20220216T030953Z
UID:1742-1671271200-1671274800@vantagehoa.org
SUMMARY:Santa Visits Vantage
DESCRIPTION:This year\, Santa will visit our community on Saturday\, December 17th\, around 10am. Stay tuned for more information.
URL:https://vantagehoa.org/event/santa-visits-vantage-3/
CATEGORIES:Santa Visit
END:VEVENT
END:VCALENDAR